BEGIN:VCALENDAR
VERSION:2.0
PRODID:-//Phuket School of Music - ECPv6.15.20//NONSGML v1.0//EN
CALSCALE:GREGORIAN
METHOD:PUBLISH
X-ORIGINAL-URL:https://phuket-music.com
X-WR-CALDESC:Events for Phuket School of Music
REFRESH-INTERVAL;VALUE=DURATION:PT1H
X-Robots-Tag:noindex
X-PUBLISHED-TTL:PT1H
BEGIN:VTIMEZONE
TZID:Asia/Krasnoyarsk
BEGIN:STANDARD
TZOFFSETFROM:+0700
TZOFFSETTO:+0700
TZNAME:+07
DTSTART:20250101T000000
END:STANDARD
END:VTIMEZONE
BEGIN:VEVENT
DTSTART;TZID=Asia/Krasnoyarsk:20260426T180000
DTEND;TZID=Asia/Krasnoyarsk:20260426T190000
DTSTAMP:20260423T220930
CREATED:20260111T065201Z
LAST-MODIFIED:20260111T065201Z
UID:2591-1777226400-1777230000@phuket-music.com
SUMMARY:Chamber Music Recital
DESCRIPTION:Chamber Music Recital \nby Students of Phuket School of Music
URL:https://phuket-music.com/event/chamber-music-recital/
LOCATION:Phuket School of Music Recital Studio\, Phuket School of Music\, Phuket\, 83000\, Thailand
END:VEVENT
END:VCALENDAR