BEGIN:VCALENDAR
VERSION:2.0
PRODID:-//Phuket School of Music - ECPv6.15.20//NONSGML v1.0//EN
CALSCALE:GREGORIAN
METHOD:PUBLISH
X-ORIGINAL-URL:https://phuket-music.com
X-WR-CALDESC:Events for Phuket School of Music
REFRESH-INTERVAL;VALUE=DURATION:PT1H
X-Robots-Tag:noindex
X-PUBLISHED-TTL:PT1H
BEGIN:VTIMEZONE
TZID:Asia/Krasnoyarsk
BEGIN:STANDARD
TZOFFSETFROM:+0700
TZOFFSETTO:+0700
TZNAME:+07
DTSTART:20250101T000000
END:STANDARD
END:VTIMEZONE
BEGIN:VEVENT
DTSTART;TZID=Asia/Krasnoyarsk:20260104T183000
DTEND;TZID=Asia/Krasnoyarsk:20260104T193000
DTSTAMP:20260424T025139
CREATED:20260101T024931Z
LAST-MODIFIED:20260101T025546Z
UID:2539-1767551400-1767555000@phuket-music.com
SUMMARY:New Year Concert 2026: Ragtime\, Klezmer\, and Viennese Waltzes
DESCRIPTION:Phuket School of Music\npresents\n\n\n\nNew Year Concert 2026\nRagtime\, Klezmer\, and Viennese Waltzes\n\n\n\n Sunday\, 04 January 2026\, 6:30pm\n Phuket School of Music – Recital Studio\n\n\n\nFeaturing\nProf. Hiroshi Yamane – Piano\nMayumi Nagai – Clarinet\nPrapansak Pumin – Violin\n\n\n\nJoin us in welcoming the New Year with an afternoon of vibrant rhythms\, expressive melodies\, and timeless dance music!\n\n\n\nConcert Programme\n• Afternoon Cakewalk: Suite of Rags — selections by\nScott Joplin\, Louis Chauvin\, Joseph Lamb\, James Scott & William Bolcom\n• Sholem-Alekhem\, Rov Feidman! — Béla Kovács\n• Three Old Viennese Dances — Fritz Kreisler\n\n\n\n Free Admission\n(Seat reservation required | Limited seats available)\n\n\n\n RSVP\nLINE ID: phuket-music\nWhatsApp: +66 9 3101 9051\nEmail: admin@phuket-music.com
URL:https://phuket-music.com/event/new-year-concert-2026-ragtime-klezmer-and-viennese-waltzes/
LOCATION:Phuket School of Music Recital Studio\, Phuket School of Music\, Phuket\, 83000\, Thailand
CATEGORIES:Artist Concert
ATTACH;FMTTYPE=image/png:https://phuket-music.com/wp-content/uploads/2026/01/New-year-concert-2026.png
END:VEVENT
END:VCALENDAR