BEGIN:VCALENDAR
VERSION:2.0
PRODID:-//Phuket School of Music - ECPv6.15.20//NONSGML v1.0//EN
CALSCALE:GREGORIAN
METHOD:PUBLISH
X-WR-CALNAME:Phuket School of Music
X-ORIGINAL-URL:https://phuket-music.com
X-WR-CALDESC:Events for Phuket School of Music
REFRESH-INTERVAL;VALUE=DURATION:PT1H
X-Robots-Tag:noindex
X-PUBLISHED-TTL:PT1H
BEGIN:VTIMEZONE
TZID:Asia/Krasnoyarsk
BEGIN:STANDARD
TZOFFSETFROM:+0700
TZOFFSETTO:+0700
TZNAME:+07
DTSTART:20240101T000000
END:STANDARD
END:VTIMEZONE
BEGIN:VEVENT
DTSTART;TZID=Asia/Krasnoyarsk:20251004T180000
DTEND;TZID=Asia/Krasnoyarsk:20251004T190000
DTSTAMP:20260424T072309
CREATED:20250830T160738Z
LAST-MODIFIED:20250830T161502Z
UID:2412-1759600800-1759604400@phuket-music.com
SUMMARY:Students' Recital: Rock & Pop Edition
DESCRIPTION:Phuket School of Music\npresents \nStudents’ Recital\nRock & Pop Edition \nSaturday\, 04 October 2025 | 6:00 PM\nThe Red Square Music Gallery & Cafe \nRSVP:\nLine ID: phuket-music\nWhatsApp: +66 93 101 9051\nEmail: admin@phuket-music.com
URL:https://phuket-music.com/event/students-recital-rock-pop-edition/
LOCATION:The Red Square Music Gallery\, The Red Square Music Gallery\, Phuket\, Phuket\, 83000\, Thailand
ATTACH;FMTTYPE=image/png:https://phuket-music.com/wp-content/uploads/2025/08/Drum-Recital.png
END:VEVENT
BEGIN:VEVENT
DTSTART;TZID=Asia/Krasnoyarsk:20251005T180000
DTEND;TZID=Asia/Krasnoyarsk:20251005T190000
DTSTAMP:20260424T072309
CREATED:20250828T171255Z
LAST-MODIFIED:20250828T171255Z
UID:2364-1759687200-1759690800@phuket-music.com
SUMMARY:Student Recital
DESCRIPTION:Student Recital by Phuket School of Music \n05 October 2025\, 6pm \nPhuket School of Music Recital Studio \nRSVP \nLine ID: phuket-music\nWhatsApp: +66 93 101 9051\nEmail: admin@phuket-music.com
URL:https://phuket-music.com/event/student-recital-2/
LOCATION:Phuket School of Music Recital Studio\, Phuket School of Music\, Phuket\, 83000\, Thailand
ATTACH;FMTTYPE=image/png:https://phuket-music.com/wp-content/uploads/2025/08/Recital-studio-cover-1.png
END:VEVENT
BEGIN:VEVENT
DTSTART;VALUE=DATE:20251007
DTEND;VALUE=DATE:20251009
DTSTAMP:20260424T072309
CREATED:20250829T072036Z
LAST-MODIFIED:20251003T084713Z
UID:2395-1759795200-1759967999@phuket-music.com
SUMMARY:Alexander Technique for Musicians: Workshop
DESCRIPTION:Phuket School of Music \npresents \nAlexander Technique for Musicians\n7-8 October 2025 \nSession I : 4pm \nSession II : 6:15pm \nAlexander Technique Master: Dirk Van De Velde \nJoin us for a unique opportunity to explore the Alexander Technique\, a practical method for improving posture\, movement\, and overall body awareness. Widely used by musicians\, actors\, dancers\, and professionals worldwide\, the Alexander Technique helps individuals release unnecessary tension\, enhance coordination\, and develop greater ease in performance and daily life. \nThis workshop is designed for both students and teachers\, offering: \nGroup lessons to understand the fundamental principles of the Alexander Technique. \nIndividual lessons for personalized guidance in applying these principles to music practice\, performance\, and everyday activities. \nWhether you are looking to improve your performance\, reduce stress\, or cultivate better habits of movement\, this workshop will provide valuable tools to support your artistic and personal growth. \nFor inquiries and registration:\n📱 Line ID: phuket-music\n📱 WhatsApp: +66 93 101 9051\n📧 Email: admin@phuket-music.com
URL:https://phuket-music.com/event/alexander-technique-workshop/
LOCATION:Phuket School of Music Recital Studio\, Phuket School of Music\, Phuket\, 83000\, Thailand
ATTACH;FMTTYPE=image/png:https://phuket-music.com/wp-content/uploads/2025/08/Alexander-technique-cover-2.png
END:VEVENT
BEGIN:VEVENT
DTSTART;TZID=Asia/Krasnoyarsk:20251016T180000
DTEND;TZID=Asia/Krasnoyarsk:20251016T190000
DTSTAMP:20260424T072309
CREATED:20251003T090840Z
LAST-MODIFIED:20251003T090840Z
UID:2530-1760637600-1760641200@phuket-music.com
SUMMARY:Meet The Examiner: Insights with Prof Robin Zebaida
DESCRIPTION:Phuket School of Music presents \nMeet The Examiner: \nInsights with Prof Robin Zebaida \nSteinway Artist\, Former ABRSM Examiner \nJoin us for a special session with internationally acclaimed pianist Robin Zebaida. Students will have the opportunity to engage in an open Q&A\, gaining valuable insights into music performance and the ABRSM exam from the examiner’s perspective. \nThursday\, 16 October 2025\, 6pm \nPhuket School of Music Recital Studio \nRSVP: Text Line ID: Phuket-Music \nWhatsApp: +66931019051 \nPhone: 076603940 \nE: admin@phuket-music.com
URL:https://phuket-music.com/event/meet-the-examiner-insights-with-prof-robin-zebaida/
LOCATION:Phuket School of Music Recital Studio\, Phuket School of Music\, Phuket\, 83000\, Thailand
ATTACH;FMTTYPE=image/png:https://phuket-music.com/wp-content/uploads/2025/10/Robin-Zebaida-PSM-cover.png
END:VEVENT
BEGIN:VEVENT
DTSTART;TZID=Asia/Krasnoyarsk:20251018T183000
DTEND;TZID=Asia/Krasnoyarsk:20251018T193000
DTSTAMP:20260424T072309
CREATED:20250925T153437Z
LAST-MODIFIED:20251003T085805Z
UID:2476-1760812200-1760815800@phuket-music.com
SUMMARY:A Journey Through Liszt’s Transcendental Études\, Phu Koanantakool\, piano
DESCRIPTION:A Journey Through Liszt’s Transcendental Études \nPhu Koanantakool\, piano \n18 October 2025 \nPhuket School of Music Recital Studio \nProgramme \nFranz Liszt – 12 études d’exécution transcendante\n1. Prélude\n2. Molto vivace\n3. Paysage\n4. Mazeppa\n5. Feux follets\n6. Vision\n7. Eroica\n8. Wilde Jagd\n9. Ricordanza\n10. Allegro agitato molto\n11. Harmonies du soir\n12. Chasse-neige \nTicket: \nGeneral Admission: 1000 THB \nStudents: 400 THB \nEarly Bird Discount (until 14 October 2025): 800 THB
URL:https://phuket-music.com/event/piano-recital-by-phu-koanantakool/
LOCATION:Phuket School of Music Recital Studio\, Phuket School of Music\, Phuket\, 83000\, Thailand
ATTACH;FMTTYPE=image/png:https://phuket-music.com/wp-content/uploads/2025/09/Phu-Concert-PSM-2025-cover.png
END:VEVENT
BEGIN:VEVENT
DTSTART;VALUE=DATE:20251019
DTEND;VALUE=DATE:20251020
DTSTAMP:20260424T072309
CREATED:20250925T154110Z
LAST-MODIFIED:20251002T102930Z
UID:2480-1760832000-1760918399@phuket-music.com
SUMMARY:Piano Masterclass by Phu Koanantakool
DESCRIPTION:Piano Masterclass with Phu KoanantakoolSunday\, 19 October 2025Phuket School of Music \nPhuket School of Music is pleased to welcome acclaimed Thai pianist Phu Koanantakool for a special masterclass. \nStudents will have the chance to perform\, receive guidance\, and learn from his experience as an international concert artist. \nJoin us for this inspiring afternoon of music and learning! \nFor registration and details\, please contact Phuket School of Music.
URL:https://phuket-music.com/event/piano-masterclass-by-phu-koanantakool/
ATTACH;FMTTYPE=image/png:https://phuket-music.com/wp-content/uploads/2025/09/Phu-Concert-masterclass-PSM-2025-Medium-1.png
END:VEVENT
END:VCALENDAR