BEGIN:VCALENDAR
VERSION:2.0
PRODID:-//Phuket School of Music - ECPv6.15.20//NONSGML v1.0//EN
CALSCALE:GREGORIAN
METHOD:PUBLISH
X-WR-CALNAME:Phuket School of Music
X-ORIGINAL-URL:https://phuket-music.com
X-WR-CALDESC:Events for Phuket School of Music
REFRESH-INTERVAL;VALUE=DURATION:PT1H
X-Robots-Tag:noindex
X-PUBLISHED-TTL:PT1H
BEGIN:VTIMEZONE
TZID:Asia/Krasnoyarsk
BEGIN:STANDARD
TZOFFSETFROM:+0700
TZOFFSETTO:+0700
TZNAME:+07
DTSTART:20240101T000000
END:STANDARD
END:VTIMEZONE
BEGIN:VEVENT
DTSTART;TZID=Asia/Krasnoyarsk:20250830T183000
DTEND;TZID=Asia/Krasnoyarsk:20250830T193000
DTSTAMP:20260424T070108
CREATED:20250828T093840Z
LAST-MODIFIED:20250829T055652Z
UID:2274-1756578600-1756582200@phuket-music.com
SUMMARY:The Phuket Violin Ensemble
DESCRIPTION:Phuket International Violin and Chamber Music Masterclasses\nPhuket School of Music\npresents\n\n\n \n\nThe Phuket Violin Ensemble\n30 August 2025\, 6:30pm\nPhuket School of Music Recital Studio\n\n\n \n\nFeaturing outstanding participants of the Phuket Violin Masterclasses from China\, Taiwan and Thailand\n\n\n \n\nPianist: Edgar Wiersocki (Poland)\nUnder the direction of Prof. Christoph Schickedanz – Hamburg – Germany\n\n\n \n\nStandard Ticket: 800 Baht\nStudent Discount: 400 baht\n\n\n \n\nFor inquiries\, Text Line ID: phuket-music\nWhatsApp: +66931019051\nEmail: admin@phuket-music.com\n\n\nhttps://phuket-music.com/phuket-international-violin-and…/\n\n\n\nProgramme:\n\n \n\nGeorge Frederick Handel*: “Ombra mai fù di vegetabile“ form the opera „Xerxes”\nFranz Schubert°: Rosamunde – Interlude Music\nJohann Strauss*: „The Blue Danube“\, Waltz op.314 (1867)\nJules Massenet*: Meditation from the Opera „Thaïs“\nChristoph Schickedanz: Bohemian Fantasy“ after Melodies by Antonin Dvorak\nSergeij Prokofiev^: March from the Opera “The Love of Three Oranges“\nCamille Saint-Saëns / Christoph Schickedanz: „Der Schwan und die Schwänin“\nJohannes Brahms*: 3 Hungarian Dances
URL:https://phuket-music.com/event/the-phuket-violin-ensemble/
LOCATION:Phuket School of Music Recital Studio\, Phuket School of Music\, Phuket\, 83000\, Thailand
ATTACH;FMTTYPE=image/png:https://phuket-music.com/wp-content/uploads/2025/08/Violin-Ensemble-cover-Large-Medium-1.png
END:VEVENT
BEGIN:VEVENT
DTSTART;TZID=Asia/Krasnoyarsk:20250830T130000
DTEND;TZID=Asia/Krasnoyarsk:20250830T143000
DTSTAMP:20260424T070108
CREATED:20250828T111926Z
LAST-MODIFIED:20250828T154623Z
UID:2292-1756558800-1756564200@phuket-music.com
SUMMARY:Session I Concert: Phuket International Violin and Chamber Music Masterclasses
DESCRIPTION:Phuket International Violin and Chamber Music Masterclasses \nSession I Concert: 30 August 2025\, 1pm \nVenue: Phuket School of Music \n\nFaculty:\nProf Christoph Schickedanz (Germany)\nHamburg University of Music\n\n \n\nProf C Nanette Chen (Taiwan)\nNational Taiwan Normal University Taipei\n\n \n\nProf Hong Wang (China)\nThe Yehudi Menuhin School Qingdao\n\n \n\nArtistic Collaboration:\nLijunyi Zhang (China)\nSun Yat-sen University Guangzhou\n\n\nYu-Hsuan Chien (Taiwan)\n\n\nPianist: Edgar Wiersocki (Poland)\n\n \n\nDirected by Professor Christoph Schickedanz\n\n \n\nRSVP:\nEmail: admin@phuket-music.com\nLine: phuket-music\nWhatsApp: +66 931019051
URL:https://phuket-music.com/event/session-i-concert-phuket-international-violin-and-chamber-music-masterclasses/
LOCATION:Phuket School of Music Recital Studio\, Phuket School of Music\, Phuket\, 83000\, Thailand
ATTACH;FMTTYPE=image/png:https://phuket-music.com/wp-content/uploads/2025/08/Phuket-Internaional-Violin-and-Chamber-music-Masterclass-cover-Medium.png
END:VEVENT
END:VCALENDAR