BEGIN:VCALENDAR
VERSION:2.0
PRODID:-//Phuket School of Music - ECPv6.15.20//NONSGML v1.0//EN
CALSCALE:GREGORIAN
METHOD:PUBLISH
X-WR-CALNAME:Phuket School of Music
X-ORIGINAL-URL:https://phuket-music.com
X-WR-CALDESC:Events for Phuket School of Music
REFRESH-INTERVAL;VALUE=DURATION:PT1H
X-Robots-Tag:noindex
X-PUBLISHED-TTL:PT1H
BEGIN:VTIMEZONE
TZID:Asia/Krasnoyarsk
BEGIN:STANDARD
TZOFFSETFROM:+0700
TZOFFSETTO:+0700
TZNAME:+07
DTSTART:20250101T000000
END:STANDARD
END:VTIMEZONE
BEGIN:VEVENT
DTSTART;TZID=Asia/Krasnoyarsk:20261206T183000
DTEND;TZID=Asia/Krasnoyarsk:20261206T203000
DTSTAMP:20260424T070328
CREATED:20260130T084911Z
LAST-MODIFIED:20260130T084911Z
UID:2607-1796581800-1796589000@phuket-music.com
SUMMARY:Gala Concert 2026 by Phuket School of Music
DESCRIPTION:Gala Concert 2026 by Phuket School of Music \nOn 6 December 2026\, Phuket School of Music will present its Gala Concert 2026\, a highlight of the School’s annual performance calendar. This special concert celebrates the achievements and artistry of students and faculty\, bringing together a rich programme of musical performances across genres and instruments. The Gala Concert offers performers the chance to share their passion and progress with a live audience\, and it’s a memorable evening of community\, culture\, and musical excellence in Phuket.
URL:https://phuket-music.com/event/gala-concert-2026-by-phuket-school-of-music/
END:VEVENT
END:VCALENDAR