BEGIN:VCALENDAR
VERSION:2.0
PRODID:-//Phuket School of Music - ECPv6.15.20//NONSGML v1.0//EN
CALSCALE:GREGORIAN
METHOD:PUBLISH
X-ORIGINAL-URL:https://phuket-music.com
X-WR-CALDESC:Events for Phuket School of Music
REFRESH-INTERVAL;VALUE=DURATION:PT1H
X-Robots-Tag:noindex
X-PUBLISHED-TTL:PT1H
BEGIN:VTIMEZONE
TZID:Asia/Krasnoyarsk
BEGIN:STANDARD
TZOFFSETFROM:+0700
TZOFFSETTO:+0700
TZNAME:+07
DTSTART:20250101T000000
END:STANDARD
END:VTIMEZONE
BEGIN:VEVENT
DTSTART;TZID=Asia/Krasnoyarsk:20260829T183000
DTEND;TZID=Asia/Krasnoyarsk:20260829T193000
DTSTAMP:20260424T053016
CREATED:20260130T083814Z
LAST-MODIFIED:20260130T083814Z
UID:2603-1788028200-1788031800@phuket-music.com
SUMMARY:Piano Concert by Miyuji Kaneko\, Steinway Artist
DESCRIPTION:Piano Concert by Miyuji Kaneko\, Steinway Artist \nAcclaimed pianist Miyuji Kaneko\, (Japan/Hungary) a Steinway Artist\, will perform a special piano recital at the Phuket School of Music Recital Studio on 29 August 2026. The concert promises an engaging programme of classical masterpieces showcasing Kaneko’s expressive artistry and technical brilliance. The event is part of Phuket School of Music’s regular concert series aimed at enriching the local music scene and offering audiences the chance to experience world-class piano performance in an intimate setting.
URL:https://phuket-music.com/event/piano-concert-by-miyuji-kaneko-steinway-artist/
LOCATION:Phuket School of Music Recital Studio\, Phuket School of Music\, Phuket\, 83000\, Thailand
CATEGORIES:Artist Concert
END:VEVENT
END:VCALENDAR