BEGIN:VCALENDAR
VERSION:2.0
PRODID:-//Phuket School of Music - ECPv6.15.20//NONSGML v1.0//EN
CALSCALE:GREGORIAN
METHOD:PUBLISH
X-ORIGINAL-URL:https://phuket-music.com
X-WR-CALDESC:Events for Phuket School of Music
REFRESH-INTERVAL;VALUE=DURATION:PT1H
X-Robots-Tag:noindex
X-PUBLISHED-TTL:PT1H
BEGIN:VTIMEZONE
TZID:Asia/Krasnoyarsk
BEGIN:STANDARD
TZOFFSETFROM:+0700
TZOFFSETTO:+0700
TZNAME:+07
DTSTART:20250101T000000
END:STANDARD
END:VTIMEZONE
BEGIN:VEVENT
DTSTART;VALUE=DATE:20260828
DTEND;VALUE=DATE:20260829
DTSTAMP:20260424T053014
CREATED:20260130T084011Z
LAST-MODIFIED:20260130T084011Z
UID:2605-1787875200-1787961599@phuket-music.com
SUMMARY:Piano Masterclass by Miyuji Kaneko\, Steinway Artist
DESCRIPTION:Piano Masterclass by Miyuji Kaneko\, Steinway Artist \nOn 28 August 2026\, Phuket School of Music will host a special Piano Masterclass led by acclaimed Steinway Artist Miyuji Kaneko. This event offers pianists and students a rare opportunity to receive expert guidance from an internationally renowned performer and educator\, known for his expressive musicality and distinguished career on the world stage. Participants will gain insights into interpretation\, technique\, and performance practice in an inspiring and supportive setting at the School’s recital studio
URL:https://phuket-music.com/event/piano-masterclass-by-miyuji-kaneko-steinway-artist/
LOCATION:Phuket School of Music Recital Studio\, Phuket School of Music\, Phuket\, 83000\, Thailand
END:VEVENT
END:VCALENDAR