BEGIN:VCALENDAR
VERSION:2.0
PRODID:-//Phuket School of Music - ECPv6.15.20//NONSGML v1.0//EN
CALSCALE:GREGORIAN
METHOD:PUBLISH
X-ORIGINAL-URL:https://phuket-music.com
X-WR-CALDESC:Events for Phuket School of Music
REFRESH-INTERVAL;VALUE=DURATION:PT1H
X-Robots-Tag:noindex
X-PUBLISHED-TTL:PT1H
BEGIN:VTIMEZONE
TZID:Asia/Krasnoyarsk
BEGIN:STANDARD
TZOFFSETFROM:+0700
TZOFFSETTO:+0700
TZNAME:+07
DTSTART:20250101T000000
END:STANDARD
END:VTIMEZONE
BEGIN:VEVENT
DTSTART;TZID=Asia/Krasnoyarsk:20260403T183000
DTEND;TZID=Asia/Krasnoyarsk:20260403T193000
DTSTAMP:20260423T233736
CREATED:20260111T065010Z
LAST-MODIFIED:20260111T065010Z
UID:2589-1775241000-1775244600@phuket-music.com
SUMMARY:Classical and Romantic Night
DESCRIPTION:Classical and Romantic Night \nRecital by students of Phuket School of Music
URL:https://phuket-music.com/event/classical-and-romantic-night/
LOCATION:Phuket School of Music Recital Studio\, Phuket School of Music\, Phuket\, 83000\, Thailand
END:VEVENT
END:VCALENDAR