BEGIN:VCALENDAR
VERSION:2.0
PRODID:-//Phuket School of Music - ECPv6.15.20//NONSGML v1.0//EN
CALSCALE:GREGORIAN
METHOD:PUBLISH
X-WR-CALNAME:Phuket School of Music
X-ORIGINAL-URL:https://phuket-music.com
X-WR-CALDESC:Events for Phuket School of Music
REFRESH-INTERVAL;VALUE=DURATION:PT1H
X-Robots-Tag:noindex
X-PUBLISHED-TTL:PT1H
BEGIN:VTIMEZONE
TZID:Asia/Krasnoyarsk
BEGIN:STANDARD
TZOFFSETFROM:+0700
TZOFFSETTO:+0700
TZNAME:+07
DTSTART:20250101T000000
END:STANDARD
END:VTIMEZONE
BEGIN:VEVENT
DTSTART;TZID=Asia/Krasnoyarsk:20260325T183000
DTEND;TZID=Asia/Krasnoyarsk:20260325T193000
DTSTAMP:20260424T011021
CREATED:20260319T161401Z
LAST-MODIFIED:20260319T161401Z
UID:2741-1774463400-1774467000@phuket-music.com
SUMMARY:Young & Talented Soloists of Thailand: An Evening of Classical Music in Phuket
DESCRIPTION:Phuket School of Music\nin collaboration with Chiangrai Youth Orchestra\nproudly presents \nYoung & Talented Soloists of Thailand\nAn Evening of Classical Music in Phuket  \nWednesday\, 25 March 2026\, 6:30pm\nPhuket School of Music Recital Studio  \nYostirta Isaji – Violin\nCherngyoot Lerdkasem – Violin\nArisa Ruengprateepsang – Violin\nTanutt Tanavoravongsa – Piano  \nArtist Profile: https://tinyurl.com/n47c9vzz \nFree Admission (seat reservation required) \nRSVP:\nText Line ID: Phuket-Music\nWhatsApp: +66931019051\nE: admin@phuket-music.com \nProgram\nMendelssohn: Violin Concerto in E Minor\, First Movement\nMozart: Violin Concerto No. 5\, First Movement\nBruch: Violin Concerto No. 1\, Third Movement\nMonti: Csárdás\nSakura (Japanese Traditional)\, arranged by Maria Kaneko\nRimsky-Korsakov: Scheherazade\, Op. 35 – Chanson Arabe\n    (arranged by Fritz Kreisler for Violin and Piano)
URL:https://phuket-music.com/event/young-talented-soloists-of-thailand-an-evening-of-classical-music-in-phuket/
LOCATION:Phuket School of Music Recital Studio\, Phuket School of Music\, Phuket\, 83000\, Thailand
ATTACH;FMTTYPE=image/png:https://phuket-music.com/wp-content/uploads/2026/03/CYO-25-March-2026-cover-Large.png
END:VEVENT
END:VCALENDAR