BEGIN:VCALENDAR
VERSION:2.0
PRODID:-//Phuket School of Music - ECPv6.15.20//NONSGML v1.0//EN
CALSCALE:GREGORIAN
METHOD:PUBLISH
X-ORIGINAL-URL:https://phuket-music.com
X-WR-CALDESC:Events for Phuket School of Music
REFRESH-INTERVAL;VALUE=DURATION:PT1H
X-Robots-Tag:noindex
X-PUBLISHED-TTL:PT1H
BEGIN:VTIMEZONE
TZID:Asia/Krasnoyarsk
BEGIN:STANDARD
TZOFFSETFROM:+0700
TZOFFSETTO:+0700
TZNAME:+07
DTSTART:20250101T000000
END:STANDARD
END:VTIMEZONE
BEGIN:VEVENT
DTSTART;VALUE=DATE:20260312
DTEND;VALUE=DATE:20260324
DTSTAMP:20260424T011109
CREATED:20260111T065656Z
LAST-MODIFIED:20260315T060250Z
UID:2593-1773273600-1774310399@phuket-music.com
SUMMARY:Phuket International Violin and Chamber Music Masterclasses
DESCRIPTION:Phuket International Violin and Chamber Music Masterclasses \nFaculty: \nProf Christoph Schickedanz \nTzu-Jen Chou \nProf. Chun Chang \nAssisting Faculty: \nZhang Li Junyi \nYu-Hsuan Chien
URL:https://phuket-music.com/event/phuket-international-chamber-music-camp-and-violin-masterclasses/
LOCATION:Phuket School of Music Recital Studio\, Phuket School of Music\, Phuket\, 83000\, Thailand
END:VEVENT
BEGIN:VEVENT
DTSTART;TZID=Asia/Krasnoyarsk:20260322T120000
DTEND;TZID=Asia/Krasnoyarsk:20260322T130000
DTSTAMP:20260424T011109
CREATED:20260315T052116Z
LAST-MODIFIED:20260316T012807Z
UID:2675-1774180800-1774184400@phuket-music.com
SUMMARY:Phuket Chamber Orchestra – Phang Nga Concert Tour
DESCRIPTION:The Phuket Chamber Orchestra\, presented by the Phuket International Violin and Chamber Music Masterclasses at Phuket School of Music\, brings its concert tour to Phang Nga. \n📅 22 March 2026 | 12:00 PM\n📍 Venue: Deebuk Phangnga Wittayayon School Phang Nga \nTzu-Jen Chou (Taiwan)\, Prof Chun Chang (Taiwan)\,\nYu-Hsuan Chien (Taiwan)\, Lijunyi Zhang (China)\nand outstanding students from the Phuket Chamber Music Masterclasses \nProf Christoph Schickedanz (Germany)\, conductor \nFeaturing music by Henry Purcell\, Peter Warlock\, Franz Schubert\, Wolfgang Amadeus Mozart\, and Gustav Holst. \nFor more informaton:\nText Line ID: Phuket-Music WhatsApp: +66931019051\nE: admin@phuket-music.com \nSupported by:\nPhang Nga Provincial Cultural Council\nกองทุนพี่ร้องให้น้องได้เรียน\nPhang Nga Provincial Education Office\nMinistry of Culture\nDeebuk Phangnga Wittayayon School
URL:https://phuket-music.com/event/phuket-chamber-orchestra-phang-nga-concert-tour/
LOCATION:Deebuk Phangnga Wittayayon School Phang Nga
ATTACH;FMTTYPE=image/png:https://phuket-music.com/wp-content/uploads/2026/03/PCO-22-March-2026-cover-Large-1.png
END:VEVENT
END:VCALENDAR