BEGIN:VCALENDAR
VERSION:2.0
PRODID:-//Phuket School of Music - ECPv6.15.20//NONSGML v1.0//EN
CALSCALE:GREGORIAN
METHOD:PUBLISH
X-WR-CALNAME:Phuket School of Music
X-ORIGINAL-URL:https://phuket-music.com
X-WR-CALDESC:Events for Phuket School of Music
REFRESH-INTERVAL;VALUE=DURATION:PT1H
X-Robots-Tag:noindex
X-PUBLISHED-TTL:PT1H
BEGIN:VTIMEZONE
TZID:Asia/Krasnoyarsk
BEGIN:STANDARD
TZOFFSETFROM:+0700
TZOFFSETTO:+0700
TZNAME:+07
DTSTART:20240101T000000
END:STANDARD
END:VTIMEZONE
BEGIN:VEVENT
DTSTART;TZID=Asia/Krasnoyarsk:20250926T190000
DTEND;TZID=Asia/Krasnoyarsk:20250926T200000
DTSTAMP:20260424T101322
CREATED:20250828T163019Z
LAST-MODIFIED:20250828T163339Z
UID:2339-1758913200-1758916800@phuket-music.com
SUMMARY:The Salaya Trio
DESCRIPTION:Bangkok Music Lover\n& Phuket School of Music\npresents \nThe Salaya Trio\nAn Evening of Music for Flute\, Oboe & Piano\nFriday\, 26 September 2025 | 7:00 PM\nPhuket School of Music Recital Studio \n\nFeaturing:\nDr Eri Nakagawa\, piano\nHiroshi Matsushima\, flute\nCooper Wright\, oboe \n\nProgramme:\nCPE Bach – Trio Sonata in d minor WQ 145 for Flute\, Oboe\, and Piano\nJules Demersseman and Felix Charles Berthelemy – Guillaume Tell: Duo Brillant\nMadeleine Dring – Trio for Flute\, Oboe\, and Piano\nJean-Michel Damase – Trio for Flute\, Oboe\, and Piano \n\nArtists’ Profile:\nhttps://shorturl.at/SwGKV \n\nTicket: 800 baht\nStudent discount: 400 baht \n\nLine ID: phuket-music\nWhatsApp: +66 93 101 9051\nEmail: admin@phuket-music.com
URL:https://phuket-music.com/event/the-salaya-trio/
LOCATION:Phuket School of Music Recital Studio\, Phuket School of Music\, Phuket\, 83000\, Thailand
ATTACH;FMTTYPE=image/png:https://phuket-music.com/wp-content/uploads/2025/08/The-Salaya-Trio-Cover-1.png
END:VEVENT
END:VCALENDAR