BEGIN:VCALENDAR
VERSION:2.0
PRODID:-//Phuket School of Music - ECPv6.15.20//NONSGML v1.0//EN
CALSCALE:GREGORIAN
METHOD:PUBLISH
X-WR-CALNAME:Phuket School of Music
X-ORIGINAL-URL:https://phuket-music.com
X-WR-CALDESC:Events for Phuket School of Music
REFRESH-INTERVAL;VALUE=DURATION:PT1H
X-Robots-Tag:noindex
X-PUBLISHED-TTL:PT1H
BEGIN:VTIMEZONE
TZID:Asia/Krasnoyarsk
BEGIN:STANDARD
TZOFFSETFROM:+0700
TZOFFSETTO:+0700
TZNAME:+07
DTSTART:20240101T000000
END:STANDARD
END:VTIMEZONE
BEGIN:VEVENT
DTSTART;TZID=Asia/Krasnoyarsk:20250921T183000
DTEND;TZID=Asia/Krasnoyarsk:20250921T193000
DTSTAMP:20260424T102334
CREATED:20250828T170822Z
LAST-MODIFIED:20250910T111238Z
UID:2360-1758479400-1758483000@phuket-music.com
SUMMARY:Piano Recital by Alexis Bordier
DESCRIPTION:Phuket School of Music\npresents \nTwentieth-Century Piano Masterworks: A Musical Journey from Vienna to Russia \nPiano Recital by Alexis Bordier \nSunday\, 21 September 2025 | 6:30 PM\nPhuket School of Music Recital Studio \nProgramme \nAlban Berg – Piano Sonata Op.1 \nLeoš Janáček –\n-1-Po zarostlem chodníčku (On an Overgrown Path) No.11 : Andante.\n-2- V mlhách (In the Mists) No.3 : Andantino.\n-3- Po zarostlem chodníčku (On an overgrown Path) No.7 : Dobrou noc ! (Good Night !) \nGyörgy Ligeti – Etude No.5 ‘Arc-en-Ciel’ \nDmitri Shostakovich – Prelude and Fugue No.4\, Op.87 \nAlexander Scriabin – Two pieces Op.57 \nAlexander Krein – Two poems Op.30 \nKarol Szymanowski – Etude No.8 Op.33 \nAlexander Scriabin – Five Preludes Op.74 \nGyörgy Ligeti – Musica Ricercata No.11 \nGyörgy Kurtág – ´Adieu Haydée ´ \nAlexander von Zemlinsky – Albumblatt \nStandard Ticket: 800 Baht\nStudent Discount: 400 baht \nFor inquiries\, Text Line ID: phuket-music\nWhatsApp: +66931019051\nEmail: admin@phuket-music.com
URL:https://phuket-music.com/event/piano-recital-by-alexis-bordier/
LOCATION:Phuket School of Music Recital Studio\, Phuket School of Music\, Phuket\, 83000\, Thailand
CATEGORIES:Artist Concert
ATTACH;FMTTYPE=image/png:https://phuket-music.com/wp-content/uploads/2025/08/Alexis-cover-2-Medium.png
END:VEVENT
END:VCALENDAR