BEGIN:VCALENDAR
VERSION:2.0
PRODID:-//Phuket School of Music - ECPv6.15.20//NONSGML v1.0//EN
CALSCALE:GREGORIAN
METHOD:PUBLISH
X-WR-CALNAME:Phuket School of Music
X-ORIGINAL-URL:https://phuket-music.com
X-WR-CALDESC:Events for Phuket School of Music
REFRESH-INTERVAL;VALUE=DURATION:PT1H
X-Robots-Tag:noindex
X-PUBLISHED-TTL:PT1H
BEGIN:VTIMEZONE
TZID:Asia/Krasnoyarsk
BEGIN:STANDARD
TZOFFSETFROM:+0700
TZOFFSETTO:+0700
TZNAME:+07
DTSTART:20240101T000000
END:STANDARD
END:VTIMEZONE
BEGIN:VEVENT
DTSTART;TZID=Asia/Krasnoyarsk:20250907T130000
DTEND;TZID=Asia/Krasnoyarsk:20250907T143000
DTSTAMP:20260424T101235
CREATED:20250829T061501Z
LAST-MODIFIED:20250829T074212Z
UID:2389-1757250000-1757255400@phuket-music.com
SUMMARY:Session II Concert: Phuket International Violin and Chamber Music Masterclasses
DESCRIPTION:Phuket International Violin and Chamber Music Masterclasses \nSession II Concert: 07 September 2025\, 1pm \nVenue: Phuket School of Music \n\nFaculty:\nProf Christoph Schickedanz (Germany)\nHamburg University of Music\n\n \n\nArtistic Collaboration:\nLijunyi Zhang (China)\nSun Yat-sen University Guangzhou\n\n\nYu-Hsuan Chien (Taiwan)\n\n\nPianist: Edgar Wiersocki (Poland)\n\n \n\nDirected by Professor Christoph Schickedanz\n\n \n\nRSVP:\nEmail: admin@phuket-music.com\nLine: phuket-music\nWhatsApp: +66 931019051
URL:https://phuket-music.com/event/session-i-concert-phuket-international-violin-and-chamber-music-masterclasses-2/
LOCATION:Phuket School of Music Recital Studio\, Phuket School of Music\, Phuket\, 83000\, Thailand
ATTACH;FMTTYPE=image/png:https://phuket-music.com/wp-content/uploads/2025/08/Phuket-Internaional-Violin-and-Chamber-music-Masterclass-session-2-1.png
END:VEVENT
END:VCALENDAR